BEGIN:VCALENDAR
VERSION:2.0
PRODID:-//Generation e Ministries - ECPv6.15.20//NONSGML v1.0//EN
CALSCALE:GREGORIAN
METHOD:PUBLISH
X-WR-CALNAME:Generation e Ministries
X-ORIGINAL-URL:https://gen-e.org.au
X-WR-CALDESC:Events for Generation e Ministries
REFRESH-INTERVAL;VALUE=DURATION:PT1H
X-Robots-Tag:noindex
X-PUBLISHED-TTL:PT1H
BEGIN:VTIMEZONE
TZID:Australia/Sydney
BEGIN:STANDARD
TZOFFSETFROM:+1100
TZOFFSETTO:+1000
TZNAME:AEST
DTSTART:20230401T160000
END:STANDARD
BEGIN:DAYLIGHT
TZOFFSETFROM:+1000
TZOFFSETTO:+1100
TZNAME:AEDT
DTSTART:20230930T160000
END:DAYLIGHT
BEGIN:STANDARD
TZOFFSETFROM:+1100
TZOFFSETTO:+1000
TZNAME:AEST
DTSTART:20240406T160000
END:STANDARD
BEGIN:DAYLIGHT
TZOFFSETFROM:+1000
TZOFFSETTO:+1100
TZNAME:AEDT
DTSTART:20241005T160000
END:DAYLIGHT
BEGIN:STANDARD
TZOFFSETFROM:+1100
TZOFFSETTO:+1000
TZNAME:AEST
DTSTART:20250405T160000
END:STANDARD
BEGIN:DAYLIGHT
TZOFFSETFROM:+1000
TZOFFSETTO:+1100
TZNAME:AEDT
DTSTART:20251004T160000
END:DAYLIGHT
END:VTIMEZONE
BEGIN:VEVENT
DTSTART;TZID=Australia/Sydney:20241001T100000
DTEND;TZID=Australia/Sydney:20241001T130000
DTSTAMP:20260423T203835
CREATED:20240922T042149Z
LAST-MODIFIED:20240922T234809Z
UID:10000287-1727776800-1727787600@gen-e.org.au
SUMMARY:Kids Sewing frog workshop
DESCRIPTION:Children’s Learn to Sew workshop.  Ages 8 and upwards – come an enjoy a fun-filled morning learning how to hand sew your very own frog. \nSelection of fabrics to choose from so that you can personalise your frog. \nIncludes a healthy and delicious morning tea. \nPlaces are limited – book now! \n  \n 
URL:https://gen-e.org.au/event/kids-sewing-frog-workshop/
LOCATION:Community@17\, Community@17\, Niagara Park Shopping Centre\, Niagara Park\, NSW\, 2250\, Australia
CATEGORIES:Community Events
ATTACH;FMTTYPE=image/jpeg:https://gen-e.org.au/wp-content/uploads/2024/09/IMG_1759-scaled.jpg
ORGANIZER;CN="Mary Warren":MAILTO:community@gen-e.org.au
END:VEVENT
END:VCALENDAR